BEGIN:VCALENDAR
VERSION:2.0
PRODID:http://www.pr-voelklingen.de
BEGIN:VEVENT
UID:1bcca239-3dfa-11f1-a3e9-0242ac11002b-1785404700000-de
DTSTAMP:20260422T031944Z
DTSTART:20260730T094500Z
DTEND:20260730T101500Z
SUMMARY;LANGUAGE=de: Innehalten 
URL:http://www.pr-voelklingen.de/aktuelles/gottesdienste/gottesdienst/Innehalten-2026.07.30/
END:VEVENT
END:VCALENDAR
