BEGIN:VCALENDAR
VERSION:2.0
PRODID:http://www.pr-voelklingen.de
BEGIN:VEVENT
UID:1ddbfa44-3dfa-11f1-a3e9-0242ac11002b-1785398400000-de
DTSTAMP:20260422T031947Z
DTSTART:20260730T080000Z
DTEND:20260730T084500Z
SUMMARY;LANGUAGE=de:Wortgottesdienst
URL:http://www.pr-voelklingen.de/aktuelles/gottesdienste/gottesdienst/Wortgottesdienst-2026.07.30/
END:VEVENT
END:VCALENDAR
