BEGIN:VCALENDAR
VERSION:2.0
PRODID:http://www.pr-voelklingen.de
BEGIN:VEVENT
UID:1fe93d03-3ec3-11f1-a3e9-0242ac11002b-1785513600000-de
DTSTAMP:20260423T031840Z
DTSTART:20260731T160000Z
DTEND:20260731T164000Z
SUMMARY;LANGUAGE=de: Vesper 
URL:http://www.pr-voelklingen.de/aktuelles/gottesdienste/gottesdienst/Vesper-2026.07.31/
END:VEVENT
END:VCALENDAR
