BEGIN:VCALENDAR
VERSION:2.0
PRODID:http://www.pr-voelklingen.de
BEGIN:VEVENT
UID:20e6afe2-3ec3-11f1-a3e9-0242ac11002b-1779811200000-de
DTSTAMP:20260423T031841Z
DTSTART:20260526T160000Z
DTEND:20260526T163000Z
SUMMARY;LANGUAGE=de:Abendgebet
URL:http://www.pr-voelklingen.de/aktuelles/gottesdienste/gottesdienst/Abendgebet-2026.05.26/
END:VEVENT
END:VCALENDAR
