BEGIN:VCALENDAR
VERSION:2.0
PRODID:http://www.pr-voelklingen.de
BEGIN:VEVENT
UID:210fbbb5-3ec3-11f1-a3e9-0242ac11002b-1779888600000-de
DTSTAMP:20260423T031841Z
DTSTART:20260527T133000Z
DTEND:20260527T140000Z
SUMMARY;LANGUAGE=de:Startgebet am Mittwoch Kinder-Bibel-Woche der Formatwerkstatt
END:VEVENT
END:VCALENDAR
