BEGIN:VCALENDAR
VERSION:2.0
PRODID:http://www.pr-voelklingen.de
BEGIN:VEVENT
UID:217b9ceb-3ec3-11f1-a3e9-0242ac11002b-1779975000000-de
DTSTAMP:20260423T031842Z
DTSTART:20260528T133000Z
DTEND:20260528T140000Z
SUMMARY;LANGUAGE=de:Startgebet am Donnerstag Kinder-Bibel-Woche der Formatwerkstatt
END:VEVENT
END:VCALENDAR
