BEGIN:VCALENDAR
VERSION:2.0
PRODID:http://www.pr-voelklingen.de
BEGIN:VEVENT
UID:8a67dd56-3f8c-11f1-a3e9-0242ac11002b-1785601800000-de
DTSTAMP:20260424T032027Z
DTSTART:20260801T163000Z
DTEND:20260801T173000Z
SUMMARY;LANGUAGE=de:Eucharistiefeier (VAM) mit Gedenken an die im letzten Monat (Juli) Verstorbenen aus den Pfarrbezirken der Gemeinde Heusweiler
END:VEVENT
END:VCALENDAR
