BEGIN:VCALENDAR
VERSION:2.0
PRODID:http://www.pr-voelklingen.de
BEGIN:VEVENT
UID:8ad27557-1e93-11f1-8342-0242ac11002b-1781969400000-de
DTSTAMP:20260313T041726Z
DTSTART:20260620T153000Z
DTEND:20260620T161500Z
SUMMARY;LANGUAGE=de: Wortgottesdienst mit Kommunionausteilung anschl.  Fahrzeugsegnung
END:VEVENT
END:VCALENDAR
