BEGIN:VCALENDAR
VERSION:2.0
PRODID:http://www.pr-voelklingen.de
BEGIN:VEVENT
UID:8c8ecb5d-1e93-11f1-8342-0242ac11002b-1777120200000-de
DTSTAMP:20260313T041729Z
DTSTART:20260425T123000Z
DTEND:20260425T130000Z
SUMMARY;LANGUAGE=de: Ökum. Segensfeier zum "Tag des Baumes" mitgest. vom gemischten Chor des MGV Lauterbach
END:VEVENT
END:VCALENDAR
