BEGIN:VCALENDAR
VERSION:2.0
PRODID:http://www.pr-voelklingen.de
BEGIN:VEVENT
UID:8cac7636-3f8c-11f1-a3e9-0242ac11002b-1785571200000-de
DTSTAMP:20260424T032031Z
DTSTART:20260801T080000Z
DTEND:20260801T091500Z
SUMMARY;LANGUAGE=de:Eucharistiefeier (in poln. Sprache), anschl. Rosenkranzandacht
END:VEVENT
END:VCALENDAR
