BEGIN:VCALENDAR
VERSION:2.0
PRODID:http://www.pr-voelklingen.de
BEGIN:VEVENT
UID:a8d62382-3c67-11f1-a3e9-0242ac11002b-1785241800000-de
DTSTAMP:20260420T031853Z
DTSTART:20260728T123000Z
DTEND:20260728T131500Z
SUMMARY;LANGUAGE=de: Wortgottesdienst in der Altenbegegnung, anschl. gemütliches Beisammensein
END:VEVENT
END:VCALENDAR
